BEGIN:VCALENDAR
VERSION:2.0
PRODID:-ABConcerts-events
METHOD:PUBLISH
BEGIN:VEVENT
TRANSP:OPAQUE
DTSTART:20241002T190000
DTEND:20241002T223000
SUMMARY:New date/New venue: Crystal Fighters
LOCATION:La Madeleine (Duquesnoystraat 14\, 1000 Brussel)
DESCRIPTION:Nouvelle date à La Madeleine !
URL;VALUE=URI:https://www.abconcerts.be/fr/agenda/new-datenew-venue-crystal-fighters/a105J0000071HClQAM
UID:ABConcerts_event_856d5902-530f-11ee-9f13-52547ec8b846
SEQUENCE:0
DTSTAMP:20260424T011921Z
END:VEVENT
END:VCALENDAR
