BEGIN:VCALENDAR
VERSION:2.0
PRODID:-ABConcerts-events
METHOD:PUBLISH
BEGIN:VEVENT
TRANSP:OPAQUE
DTSTART:20260414T190000
DTEND:20260414T223000
SUMMARY:New date: GoldLink
LOCATION:AB Box (Anspachlaan 110\, 1000 Brussel)
DESCRIPTION:Annulé
URL;VALUE=URI:https://www.abconcerts.be/fr/agenda/new-date-goldlink/a10Qw000006Gk0EIAS
UID:ABConcerts_event_1f01f7ff-d54e-6230-ae46-e9f0c9a45be3
SEQUENCE:0
DTSTAMP:20260422T160920Z
END:VEVENT
END:VCALENDAR
