BEGIN:VCALENDAR
VERSION:2.0
PRODID:-ABConcerts-events
METHOD:PUBLISH
BEGIN:VEVENT
TRANSP:OPAQUE
DTSTART:20220709T190000
DTEND:20220709T223000
SUMMARY:New date: FRONT 242 - 40th Anniversary
LOCATION:AB Grote zaal (Anspachlaan 110\, 1000 Brussel)
DESCRIPTION:Les pionniers de l’EBM soufflent leurs 40 bougies dans\nleur ville natale de BXL
URL;VALUE=URI:https://www.abconcerts.be/fr/agenda/new-date-front-242-40th-anniversary/a105J000001wiF3QAI
UID:ABConcerts_event_ea39d63a-d3f0-11eb-b8cc-525456751928
SEQUENCE:0
DTSTAMP:20260424T191800Z
END:VEVENT
END:VCALENDAR
