BEGIN:VCALENDAR
VERSION:2.0
PRODID:-ABConcerts-events
METHOD:PUBLISH
BEGIN:VEVENT
TRANSP:OPAQUE
DTSTART:20171016T200000
DTEND:20171016T223000
SUMMARY:Neck Deep
LOCATION:AB Box (Anspachlaan 110\, 1000 Brussel)
DESCRIPTION:Du pop punk dans le sillage de New Found Glory et A Day To\nRemember.
URL;VALUE=URI:https://www.abconcerts.be/fr/agenda/neck-deep/a105J000001wdNTQAY
UID:ABConcerts_event_3e7391e0-599f-11eb-8206-5254eb761bff
SEQUENCE:0
DTSTAMP:20260422T165729Z
END:VEVENT
END:VCALENDAR
