BEGIN:VCALENDAR
VERSION:2.0
PRODID:-ABConcerts-events
METHOD:PUBLISH
BEGIN:VEVENT
TRANSP:OPAQUE
DTSTART:20151013T190000
DTEND:20151013T223000
SUMMARY:Nathaniel Rateliff & The Night Sweats
LOCATION:AB Club - staand (Anspachlaan 110\, 1000 Brussel)
DESCRIPTION:Howling country-soul\, son of a bitch !
URL;VALUE=URI:https://www.abconcerts.be/fr/agenda/nathaniel-rateliff-the-night-sweats/a105J000001wdaDQAQ
UID:ABConcerts_event_4eaf6bc4-599f-11eb-b813-5254eb761bff
SEQUENCE:0
DTSTAMP:20260424T014959Z
END:VEVENT
END:VCALENDAR
