BEGIN:VCALENDAR
VERSION:2.0
PRODID:-ABConcerts-events
METHOD:PUBLISH
BEGIN:VEVENT
TRANSP:OPAQUE
DTSTART:20240523T190000
DTEND:20240523T223000
SUMMARY:Myles Smith
LOCATION:AB Club - staand (Anspachlaan 110\, 1000 Brussel)
DESCRIPTION:Phénomène DIY exceptionnel
URL;VALUE=URI:https://www.abconcerts.be/fr/agenda/myles-smith/a10Qw000000x9SHIAY
UID:ABConcerts_event_1eed1973-ef27-6a64-be79-4d551ac72af8
SEQUENCE:0
DTSTAMP:20260419T145343Z
END:VEVENT
END:VCALENDAR
