BEGIN:VCALENDAR
VERSION:2.0
PRODID:-ABConcerts-events
METHOD:PUBLISH
BEGIN:VEVENT
TRANSP:OPAQUE
DTSTART:20160822T183000
DTEND:20160822T233000
SUMMARY:Melanie De Biasio + Ian William Craig
LOCATION:Het Warandepark (Warandepark\, 1000 Brussels)
DESCRIPTION:Splendeurs vocales : du jazz à l’opéra
URL;VALUE=URI:https://www.abconcerts.be/fr/agenda/melanie-de-biasio-ian-william-craig/a105J000001wdUiQAI
UID:ABConcerts_event_bd79852a-59a0-11eb-ba5b-5254eb761bff
SEQUENCE:0
DTSTAMP:20260423T182243Z
END:VEVENT
END:VCALENDAR
