BEGIN:VCALENDAR
VERSION:2.0
PRODID:-ABConcerts-events
METHOD:PUBLISH
BEGIN:VEVENT
TRANSP:OPAQUE
DTSTART:20160512T200000
DTEND:20160512T223000
SUMMARY:Luka Bloom
LOCATION:AB Club - staand (Anspachlaan 110\, 1000 Brussel)
DESCRIPTION:Frugalisto : nouveau CD\, concert exclusif
URL;VALUE=URI:https://www.abconcerts.be/fr/agenda/luka-bloom/a105J000001wdW3QAI
UID:ABConcerts_event_1b169396-599f-11eb-a287-5254eb761bff
SEQUENCE:0
DTSTAMP:20260423T211737Z
END:VEVENT
END:VCALENDAR
