BEGIN:VCALENDAR
VERSION:2.0
PRODID:-ABConcerts-events
METHOD:PUBLISH
BEGIN:VEVENT
TRANSP:OPAQUE
DTSTART:20170224T210000
DTEND:20170224T020000
SUMMARY:Lotto Late Night: Wilkinson DJ Set ft. MC Ad-Apt - Hypnotic 
Album Tour
LOCATION:AB Club - staand (Anspachlaan 110\, 1000 Brussel)
DESCRIPTION:La star londonienne du drum’n’bass explose les enceintes\navec « Hypnotic »
URL;VALUE=URI:https://www.abconcerts.be/fr/agenda/lotto-late-night-wilkinson-dj-set-ft-mc-ad-apt-hypnotic-album-tour/a105J000001wdRAQAY
UID:ABConcerts_event_b0bf3abe-59a0-11eb-b439-5254eb761bff
SEQUENCE:0
DTSTAMP:20260423T162344Z
END:VEVENT
END:VCALENDAR
