BEGIN:VCALENDAR
VERSION:2.0
PRODID:-ABConcerts-events
METHOD:PUBLISH
BEGIN:VEVENT
TRANSP:OPAQUE
DTSTART:20140202T200000
DTEND:20140202T223000
SUMMARY:La Yegros
LOCATION:AB Club - staand (Anspachlaan 110\, 1000 Brussel)
DESCRIPTION:Viene De Mi: neo cumbia\, coup de coeur!
URL;VALUE=URI:https://www.abconcerts.be/fr/agenda/la-yegros/a105J000001we3LQAQ
UID:ABConcerts_event_84f00d28-59a0-11eb-b7af-5254eb761bff
SEQUENCE:0
DTSTAMP:20260422T200031Z
END:VEVENT
END:VCALENDAR
