BEGIN:VCALENDAR
VERSION:2.0
PRODID:-ABConcerts-events
METHOD:PUBLISH
BEGIN:VEVENT
TRANSP:OPAQUE
DTSTART:20090602T194500
DTEND:20090602T223000
SUMMARY:La Troba Kung-Fu + Jarabe de Palo
LOCATION:AB Box (Anspachlaan 110\, 1000 Brussel)
DESCRIPTION:En attendant l’été\, voici déjà une bonne dose de\nmusique mestizo ensoleillée ! Une double affiche reprenant\ndeux des groupes folk rock les plus pêchus de la scène\nespagnole !Tout d’abord La Troba Kung-Fu. Ils furent\nl’une des toutes grandes révélations du printemps 2007\nà l’ABClub\, avec leur premier album &#39;Clavell\nMorenet&#39;. Et pour reprendre ce que nous disions déjà\nà l’époque : « un projet hyper emballant emmené par le\nchanteur et accordéoniste Joan Garriga - ex Dusminguet - à\nqui l’on doit le meilleur de la musique mestizo espagnole\naux côtés de Ojos De Brujo\, Amparanoia et Macaco. Un\nmélange absolument irrésistible de cumbia\, rumba\,\nvallenato\, reggae\, salsa et raï. Le monde entier est\nentre leurs mains et à vos pieds ! Radio1 a d’ailleurs\nspontanément repris les titres &#39;Mírame&#39; et\n&#39;Calor\, Calor&#39; dans le top de sa play list. Eh\nchico\, écoute donc voir ! » Après les avoir notamment\nvus au festival Esperanzah\, on ne peut qu’applaudir à\ndeux mains !En deuxième partie de soirée\, nous\naccueillerons\, les bigarrés Jarabe de Palo\, emmenés par\nPau Donés. Rendus célèbres par leur tube ‘Bonito’\,\nces Espagnols sont de retour avec une série de versions\nretravaillées de leurs meilleurs titres et compilées sur\nl’album &#39;Orquesta Reciclando&#39;. De Standaard avait\ndit de leur précédent passage à l’AB: « Ce super\ngroupe espagnol a la nostalgie des seventies… comme une\nincarnation funky de Santana... le public était\ndéchaîné... sur scène\, une escapade variée qui swingue\navec délice… un rythme de rumba clapotant ... l’arme\nsecrète de ce groupe: utiliser toutes sortes d’atours\nempruntés au rock (surtout des riffs et des intros\nbluesy)\, à la salsa ou au hip-hop\, tout en basant ses\nchansons sur une sensibilité espagnole.»    La nouvelle\nsensibilité olé !?
URL;VALUE=URI:https://www.abconcerts.be/fr/agenda/la-troba-kung-fu-jarabe-de-palo/a105J000001wgZNQAY
UID:ABConcerts_event_e1b3169c-599e-11eb-b9ef-5254eb761bff
SEQUENCE:0
DTSTAMP:20260424T194912Z
END:VEVENT
END:VCALENDAR
