BEGIN:VCALENDAR
VERSION:2.0
PRODID:-ABConcerts-events
METHOD:PUBLISH
BEGIN:VEVENT
TRANSP:OPAQUE
DTSTART:20140423T200000
DTEND:20140423T223000
SUMMARY:Kraantje Pappie + Fata
LOCATION:AB Club - staand (Anspachlaan 110\, 1000 Brussel)
DESCRIPTION:Le nouvel effort de l'ambassadeur du Nederhop de Groningue !
URL;VALUE=URI:https://www.abconcerts.be/fr/agenda/kraantje-pappie-fata/a105J000001we57QAA
UID:ABConcerts_event_96045ccc-59a0-11eb-bd59-5254eb761bff
SEQUENCE:0
DTSTAMP:20260422T230553Z
END:VEVENT
END:VCALENDAR
