BEGIN:VCALENDAR
VERSION:2.0
PRODID:-ABConcerts-events
METHOD:PUBLISH
BEGIN:VEVENT
TRANSP:OPAQUE
DTSTART:20160530T200000
DTEND:20160530T223000
SUMMARY:Korn
LOCATION:AB Grote zaal (Anspachlaan 110\, 1000 Brussel)
DESCRIPTION:Le géant du métal envoie du lourd avec le successeur de\nThe Paradigm Shift
URL;VALUE=URI:https://www.abconcerts.be/fr/agenda/korn/a105J000001wdW9QAI
UID:ABConcerts_event_e00d8dfc-59a0-11eb-af8d-5254eb761bff
SEQUENCE:0
DTSTAMP:20260423T194716Z
END:VEVENT
END:VCALENDAR
