BEGIN:VCALENDAR
VERSION:2.0
PRODID:-ABConcerts-events
METHOD:PUBLISH
BEGIN:VEVENT
TRANSP:OPAQUE
DTSTART:20140829T200000
DTEND:20140829T223000
SUMMARY:Killing Sound + Copeland + Oaktree
LOCATION:AB Salon - zittend (Steenstraat 11\, 1000 Brussel)
DESCRIPTION:Des rythmes sombres et une bonne dose de dub.
URL;VALUE=URI:https://www.abconcerts.be/fr/agenda/killing-sound-copeland-oaktree/a105J000001wguvQAA
UID:ABConcerts_event_36177eca-59a0-11eb-b999-5254eb761bff
SEQUENCE:0
DTSTAMP:20260423T044420Z
END:VEVENT
END:VCALENDAR
