BEGIN:VCALENDAR
VERSION:2.0
PRODID:-ABConcerts-events
METHOD:PUBLISH
BEGIN:VEVENT
TRANSP:OPAQUE
DTSTART:20130517T200000
DTEND:20130517T223000
SUMMARY:Kevin Devine
LOCATION:AB Salon - zittend (Steenstraat 11\, 1000 Brussel)
DESCRIPTION:Du pain bénit pour les fans de singer-songwriting de\nqualité
URL;VALUE=URI:https://www.abconcerts.be/fr/agenda/kevin-devine/a105J000001wgr0QAA
UID:ABConcerts_event_2857f1a2-59a0-11eb-83a6-5254eb761bff
SEQUENCE:0
DTSTAMP:20260419T162231Z
END:VEVENT
END:VCALENDAR
