BEGIN:VCALENDAR
VERSION:2.0
PRODID:-ABConcerts-events
METHOD:PUBLISH
BEGIN:VEVENT
TRANSP:OPAQUE
DTSTART:20090329T180000
DTEND:20090329T223000
SUMMARY:Kenza Farah
LOCATION:AB Grote zaal (Anspachlaan 110\, 1000 Brussel)
DESCRIPTION:Kenza Farah s&#39;est installée dans le paysage du R&amp;B\nfrançais comme une petite étoile à la fois touchante et\ninnocente\, avec l&#39;once de révolte qui sied à son\nvécu. Se muant en porte-parole d&#39;une génération\ndélaissée\, elle prend ainsi le flambeau laissé vacant\npar ses consoeurs.Son dernier album\, &#39;Avec le\ncœur&#39; sorti fin 2008\, consacre Kenza Farah comme une\nartiste incontournable chez nous\, elle qui est déjà un\nmodèle pour toute une jeunesse qui la soutient.Kenza Farah\nsera pour la toute 1ere fois en concert en Belgique!        \n                       Kenza Farah - Au Coeur De La Rue
URL;VALUE=URI:https://www.abconcerts.be/fr/agenda/kenza-farah/a105J000001wgYsQAI
UID:ABConcerts_event_8ab4d582-599f-11eb-9a15-5254eb761bff
SEQUENCE:0
DTSTAMP:20260421T200217Z
END:VEVENT
END:VCALENDAR
