BEGIN:VCALENDAR
VERSION:2.0
PRODID:-ABConcerts-events
METHOD:PUBLISH
BEGIN:VEVENT
TRANSP:OPAQUE
DTSTART:20170407T180000
DTEND:20170407T193000
SUMMARY:John 'Inzane' Olson (Wolf Eyes) presents 'Life is a Ripp Off
' (Third Man Books)
LOCATION:Steenstraat 25 (unknown\, 1000 Brussel)
DESCRIPTION:Artist Talk & session d’écoute avec John Olson\, membre\nde Wolf Eyes
URL;VALUE=URI:https://www.abconcerts.be/fr/agenda/john-inzane-olson-wolf-eyes-presents-life-is-a-ripp-off-third-man-books/a105J000001wdPqQAI
UID:ABConcerts_event_95534b80-59a0-11eb-882c-5254eb761bff
SEQUENCE:0
DTSTAMP:20260423T005512Z
END:VEVENT
END:VCALENDAR
