BEGIN:VCALENDAR
VERSION:2.0
PRODID:-ABConcerts-events
METHOD:PUBLISH
BEGIN:VEVENT
TRANSP:OPAQUE
DTSTART:20150226T200000
DTEND:20150226T223000
SUMMARY:John Coffey
LOCATION:AB Club - staand (Anspachlaan 110\, 1000 Brussel)
DESCRIPTION:Ces Bataves sortent le marteau-pilon à l'AB.
URL;VALUE=URI:https://www.abconcerts.be/fr/agenda/john-coffey/a105J000001wdswQAA
UID:ABConcerts_event_9df11a2e-59a0-11eb-87c0-5254eb761bff
SEQUENCE:0
DTSTAMP:20260423T132007Z
END:VEVENT
END:VCALENDAR
