BEGIN:VCALENDAR
VERSION:2.0
PRODID:-ABConcerts-events
METHOD:PUBLISH
BEGIN:VEVENT
TRANSP:OPAQUE
DTSTART:20140526T200000
DTEND:20140526T223000
SUMMARY:Jeff Beck
LOCATION:AB Grote zaal (Anspachlaan 110\, 1000 Brussel)
DESCRIPTION:Rule-breaking\, Grammy-winning guitar hero!
URL;VALUE=URI:https://www.abconcerts.be/fr/agenda/jeff-beck/a105J000001we2fQAA
UID:ABConcerts_event_9902fdfc-59a0-11eb-b24c-5254eb761bff
SEQUENCE:0
DTSTAMP:20260421T192005Z
END:VEVENT
END:VCALENDAR
