BEGIN:VCALENDAR
VERSION:2.0
PRODID:-ABConcerts-events
METHOD:PUBLISH
BEGIN:VEVENT
TRANSP:OPAQUE
DTSTART:20171114T200000
DTEND:20171114T223000
SUMMARY:Jane Weaver
LOCATION:Bonnefooi (unknown\, 1000 Brussel)
DESCRIPTION:« L’exploratrice sonore britannique découvre de nouveaux\nmondes sur son 9e album ! » Mojo
URL;VALUE=URI:https://www.abconcerts.be/fr/agenda/jane-weaver/a105J000001wdLxQAI
UID:ABConcerts_event_dd1cce78-59a0-11eb-9cf8-5254eb761bff
SEQUENCE:0
DTSTAMP:20260420T112133Z
END:VEVENT
END:VCALENDAR
