BEGIN:VCALENDAR
VERSION:2.0
PRODID:-ABConcerts-events
METHOD:PUBLISH
BEGIN:VEVENT
TRANSP:OPAQUE
DTSTART:20170324T200000
DTEND:20170324T223000
SUMMARY:J. Bernardt
LOCATION:AB Club - staand (Anspachlaan 110\, 1000 Brussel)
DESCRIPTION:Le co-leader de Balthazar démarre en solo avec un R&B\nminimaliste !
URL;VALUE=URI:https://www.abconcerts.be/fr/agenda/j-bernardt/a105J000001wdREQAY
UID:ABConcerts_event_b0f39070-59a0-11eb-9e97-5254eb761bff
SEQUENCE:0
DTSTAMP:20260423T033558Z
END:VEVENT
END:VCALENDAR
