BEGIN:VCALENDAR
VERSION:2.0
PRODID:-ABConcerts-events
METHOD:PUBLISH
BEGIN:VEVENT
TRANSP:OPAQUE
DTSTART:20131122T180000
DTEND:20131122T200000
SUMMARY:Interview with: Girls In Hawaii
LOCATION:AB Salon - zittend (Steenstraat 11\, 1000 Brussel)
DESCRIPTION:En guise de parfaite introduction au concert organisé le\nsoir même à l&#39;AB\, Antoine\, Lionel et François se\nlaisseront interviewer en public au\nHuis23.L&#39;intervieweur de service sera Philippe Manche\,\njournaliste musical pour Le Soir.Cette session est gratuite\nmais le nombre de places au Huis 23 étant très limité\,\nnous vous demandons de bien vouloir vous inscrire auprès de\nreservationshuis23@abconcerts.be en mentionnant « Girls »\nen objet de votre mail.
URL;VALUE=URI:https://www.abconcerts.be/fr/agenda/interview-with-girls-in-hawaii/a105J000001wgt3QAA
UID:ABConcerts_event_c549be7a-599e-11eb-8f98-5254eb761bff
SEQUENCE:0
DTSTAMP:20260420T070916Z
END:VEVENT
END:VCALENDAR
