BEGIN:VCALENDAR
VERSION:2.0
PRODID:-ABConcerts-events
METHOD:PUBLISH
BEGIN:VEVENT
TRANSP:OPAQUE
DTSTART:20131127T180000
DTEND:20131127T200000
SUMMARY:Interview: Linda Perhacs
LOCATION:AB Salon - zittend (Steenstraat 11\, 1000 Brussel)
DESCRIPTION:Linda Perhacs\, Vashti Bunyan et Karen Dalton ont au moins\nune chose en commun. Elles ont toutes sorti\, dans les\nannées 70\, un ou plusieurs albums folk dont\nl&#39;importance musicale n&#39;allait clairement se\nrévéler qu&#39;au tournant du siècle. Des ambassadeurs\ncomme Nick Cave ont notamment pris fait et cause pour Karen\nDalton\, la Billie Holiday blanche\, et le new weird folkie\nDevendra Banhart n’a cessé de crier à qui voulait\nl&#39;entendre son amour et son estime pour Vashti Bunyan et\nLinda Perhacs.    Cette dernière est née en Californie\nsous le nom de Linda Jeanne Arnold et a sorti en 1970 le\nmagnifique album de folk psychédélique\n‘Parallelograms’. Hélas\, l&#39;album fut à\nl&#39;époque totalement ignoré par le monde extérieur et\nLinda Perhacs se consacra alors à son autre occupation : un\ncabinet dentaire à Beverly Hills\, Los Angeles.C&#39;était\njusqu&#39;à ce que l&#39;album\, qui reste son seul opus à\nce jour\, soit réédité à la fin du siècle dernier et\nqu&#39;une nouvelle génération de musiciens grands\namateurs de musique la redécouvrent. Devendra Banhart\nl&#39;a ainsi invitée sur son album ‘Smokey Rolls Down\nThunder Canyon’ (’07) et Daft Punk a utilisé une de ses\nchansons (‘If You Were My Man’) dans son film\n‘Electroma’ (’06).    Ce regain d&#39;intérêt amène\nLinda Perhacs à venir pour la première fois en Belgique\,\n43 ans après la sortie de son premier opus aujourd’hui\napprécié à sa juste valeur. Et avec un peu de chance\,\nvous aurez l&#39;occasion de découvrir ce soir-là quelques\ntitres de son nouvel album\, ’The Soul Of All Natural\nThings’\, à paraître en 2014 et sur lequel on pourra\négalement entendre Julia Holter et Devendra Banhart.   \nAvant son concert à l&#39;ABClub Linda P. sera interviewée\nau Huis 23 par Kurt Overbergh - directeur artistique de\nl&#39;AB.    L&#39;entrée est gratuite mais les places sont\nlimitées. Veuillez réserver en envoyant un mail à\nreservationshuis23@abconcerts.be et en mentionnant «\nPerhacs » en objet de votre message.
URL;VALUE=URI:https://www.abconcerts.be/fr/agenda/interview-linda-perhacs/a105J000001wgt0QAA
UID:ABConcerts_event_98ea0dc0-599f-11eb-844a-5254eb761bff
SEQUENCE:0
DTSTAMP:20260420T065131Z
END:VEVENT
END:VCALENDAR
