BEGIN:VCALENDAR
VERSION:2.0
PRODID:-ABConcerts-events
METHOD:PUBLISH
BEGIN:VEVENT
TRANSP:OPAQUE
DTSTART:20130502T200000
DTEND:20130502T223000
SUMMARY:Imagine Dragons + Protection Patrol Pinkerton
LOCATION:AB Box (Anspachlaan 110\, 1000 Brussel)
DESCRIPTION:La nouvelle sensation US s'emparera bientôt de l'Europe !
URL;VALUE=URI:https://www.abconcerts.be/fr/agenda/imagine-dragons-protection-patrol-pinkerton/a105J000001wdzLQAQ
UID:ABConcerts_event_9c185992-59a0-11eb-aa82-5254eb761bff
SEQUENCE:0
DTSTAMP:20260419T151616Z
END:VEVENT
END:VCALENDAR
