BEGIN:VCALENDAR
VERSION:2.0
PRODID:-ABConcerts-events
METHOD:PUBLISH
BEGIN:VEVENT
TRANSP:OPAQUE
DTSTART:20140426T200000
DTEND:20140426T223000
SUMMARY:IBM [INSPIRED BY BLACK METAL] presents GNAW + ?ALOS + Docu S
creening
LOCATION:AB Club - staand (Anspachlaan 110\, 1000 Brussel)
DESCRIPTION:Pure fucking horror. Avec Alan Dubin (ex-Khanate) pour prota
URL;VALUE=URI:https://www.abconcerts.be/fr/agenda/ibm-inspired-by-black-metal-presents-gnaw-alos-docu-screening/a105J000001we5AQAQ
UID:ABConcerts_event_9626c9e2-59a0-11eb-bbdb-5254eb761bff
SEQUENCE:0
DTSTAMP:20260422T230547Z
END:VEVENT
END:VCALENDAR
