BEGIN:VCALENDAR
VERSION:2.0
PRODID:-ABConcerts-events
METHOD:PUBLISH
BEGIN:VEVENT
TRANSP:OPAQUE
DTSTART:20140927T200000
DTEND:20140927T223000
SUMMARY:IBM [INSPIRED BY BLACK METAL] presents AMENRA – ACOUSTIC S
HOW
LOCATION:AB Theater (Anspachlaan 110\, 1000 Brussel)
DESCRIPTION:Exclusif concert acoustique d'Amenra 2014
URL;VALUE=URI:https://www.abconcerts.be/fr/agenda/ibm-inspired-by-black-metal-presents-amenra-acoustic-show/a105J000001wgtoQAA
UID:ABConcerts_event_3ceaa934-59a0-11eb-a1f6-5254eb761bff
SEQUENCE:0
DTSTAMP:20260422T115716Z
END:VEVENT
END:VCALENDAR
