BEGIN:VCALENDAR
VERSION:2.0
PRODID:-ABConcerts-events
METHOD:PUBLISH
BEGIN:VEVENT
TRANSP:OPAQUE
DTSTART:20171202T173000
DTEND:20171202T194500
SUMMARY:IAMDDB - EXTRA EARLY EVENING SHOW
LOCATION:AB Club - staand (Anspachlaan 110\, 1000 Brussel)
DESCRIPTION:Soulful hip-hop songstress with a unique sound
URL;VALUE=URI:https://www.abconcerts.be/fr/agenda/iamddb-extra-early-evening-show/a105J000001wdK2QAI
UID:ABConcerts_event_67e8abe6-599f-11eb-b3c7-5254eb761bff
SEQUENCE:0
DTSTAMP:20260420T082424Z
END:VEVENT
END:VCALENDAR
