BEGIN:VCALENDAR
VERSION:2.0
PRODID:-ABConcerts-events
METHOD:PUBLISH
BEGIN:VEVENT
TRANSP:OPAQUE
DTSTART:20141114T200000
DTEND:20141114T223000
SUMMARY:HIPHOP40: Zulu Nation celebrates 40 years of HIPHOP feat. DJ
 Afrika Bambaataa
LOCATION:AB Club - staand (Anspachlaan 110\, 1000 Brussel)
DESCRIPTION:Le parrain du hip-hop fête les 40 ans du mouvement !
URL;VALUE=URI:https://www.abconcerts.be/fr/agenda/hiphop40-zulu-nation-celebrates-40-years-of-hiphop-feat-dj-afrika-bambaataa/a105J000001wgwRQAQ
UID:ABConcerts_event_4073f916-59a0-11eb-9ec1-5254eb761bff
SEQUENCE:0
DTSTAMP:20260423T091732Z
END:VEVENT
END:VCALENDAR
