BEGIN:VCALENDAR
VERSION:2.0
PRODID:-ABConcerts-events
METHOD:PUBLISH
BEGIN:VEVENT
TRANSP:OPAQUE
DTSTART:20131205T190000
DTEND:20131205T223000
SUMMARY:Het Kampioenschap van Brussel
LOCATION:AB Box (Anspachlaan 110\, 1000 Brussel)
DESCRIPTION:Het Kampioenschap van Brussel\, le concours musical\nbisannuel réservé aux groupes bruxellois\, en est à sa\nsixième édition. Het Kampioenschap van Brussel donne\nl&#39;occasion à de jeunes artistes prometteurs de se\nproduire devant un large public. Peu importe le genre de\nmusique qui coule dans leurs veines ou s&#39;ils se\nproduisent en solo ou en groupe. Un enthousiasme sans\nborne\, un talent hors du commun et une passion\nindéfectible pour la musique sont les leitmotivs de cette\ncompétition. On ne s&#39;étonnera pas que Black Box\nRevelation et Puggy aient fait forte impression lors de leur\nparticipation au concours.    Un jury professionnel\nsélectionne les groupes qui se mesureront\, dans un premier\ntemps\, lors de cinq sessions éliminatoires. Les finalistes\ns&#39;affronteront ensuite sur la scène de l&#39;AB Box en\nvue de décrocher la première place. Le vainqueur empochera\n1000 euros et bénéficiera de 6 jours d&#39;enregistrement\ndans le studio professionnel de la Rockfabriek.    Ce\nconcours est organisé par JES et De Rockfabriek et\ns&#39;inscrit dans le cadre du programme « 100% Puur » de\nPoppunt.        Les finalistes :    StoonsBerry Quincy\nSoldier HemsFlashblasterThibetTeranga BandNew Killers in\nTown
URL;VALUE=URI:https://www.abconcerts.be/fr/agenda/het-kampioenschap-van-brussel/a105J000001we4ZQAQ
UID:ABConcerts_event_911bda8c-59a0-11eb-976b-5254eb761bff
SEQUENCE:0
DTSTAMP:20260420T084650Z
END:VEVENT
END:VCALENDAR
