BEGIN:VCALENDAR
VERSION:2.0
PRODID:-ABConcerts-events
METHOD:PUBLISH
BEGIN:VEVENT
TRANSP:OPAQUE
DTSTART:20220912T190000
DTEND:20220912T223000
SUMMARY:Hatchie
LOCATION:AB Club - staand (Anspachlaan 110\, 1000 Brussel)
DESCRIPTION:90's shoegaze pop
URL;VALUE=URI:https://www.abconcerts.be/fr/agenda/hatchie/a105J000006uoUxQAI
UID:ABConcerts_event_0fbd6872-ca18-11ec-962e-5254eb761bff
SEQUENCE:0
DTSTAMP:20260421T204743Z
END:VEVENT
END:VCALENDAR
