BEGIN:VCALENDAR
VERSION:2.0
PRODID:-ABConcerts-events
METHOD:PUBLISH
BEGIN:VEVENT
TRANSP:OPAQUE
DTSTART:20191111T200000
DTEND:20191111T223000
SUMMARY:Haco
LOCATION:AB Salon - zittend (Steenstraat 11\, 1000 Brussel)
DESCRIPTION:L’artiste sonore japonaise mélange field recordings\,\nvoix et électro
URL;VALUE=URI:https://www.abconcerts.be/fr/agenda/haco/a105J000001wd5wQAA
UID:ABConcerts_event_2fdb5d70-599f-11eb-bda5-5254eb761bff
SEQUENCE:0
DTSTAMP:20260420T034213Z
END:VEVENT
END:VCALENDAR
