BEGIN:VCALENDAR
VERSION:2.0
PRODID:-ABConcerts-events
METHOD:PUBLISH
BEGIN:VEVENT
TRANSP:OPAQUE
DTSTART:20150930T190000
DTEND:20150930T223000
SUMMARY:Glen Hansard
LOCATION:AB Grote zaal (Anspachlaan 110\, 1000 Brussel)
DESCRIPTION:Fondateur des groupes The Frames et The Swell Season
URL;VALUE=URI:https://www.abconcerts.be/fr/agenda/glen-hansard/a105J000001wdbvQAA
UID:ABConcerts_event_55966cc6-599f-11eb-bc35-5254eb761bff
SEQUENCE:0
DTSTAMP:20260422T072228Z
END:VEVENT
END:VCALENDAR
