BEGIN:VCALENDAR
VERSION:2.0
PRODID:-ABConcerts-events
METHOD:PUBLISH
BEGIN:VEVENT
TRANSP:OPAQUE
DTSTART:20170824T190000
DTEND:20170824T235500
SUMMARY:Girls In Hawaii + Aldous Harding
LOCATION:Het Warandepark (Warandepark\, 1000 Brussels)
DESCRIPTION:Une surprise musicale virevoltante et de stupéfiantes\nmerveilles vocales !
URL;VALUE=URI:https://www.abconcerts.be/fr/agenda/girls-in-hawaii-aldous-harding/a105J000001wdNZQAY
UID:ABConcerts_event_c5494fd0-599e-11eb-80b3-5254eb761bff
SEQUENCE:0
DTSTAMP:20260421T212310Z
END:VEVENT
END:VCALENDAR
