BEGIN:VCALENDAR
VERSION:2.0
PRODID:-ABConcerts-events
METHOD:PUBLISH
BEGIN:VEVENT
TRANSP:OPAQUE
DTSTART:20160316T200000
DTEND:20160316T213000
SUMMARY:Gelukkig Zijn sessie: liedboek De Mens en Gorki
LOCATION:AB Salon - zittend (Steenstraat 11\, 1000 Brussel)
DESCRIPTION:Apprendre le néerlandais en chantant
URL;VALUE=URI:https://www.abconcerts.be/fr/agenda/gelukkig-zijn-sessie-liedboek-de-mens-en-gorki/a105J000001wdYXQAY
UID:ABConcerts_event_d9462812-59a0-11eb-9b26-5254eb761bff
SEQUENCE:0
DTSTAMP:20260424T042045Z
END:VEVENT
END:VCALENDAR
