BEGIN:VCALENDAR
VERSION:2.0
PRODID:-ABConcerts-events
METHOD:PUBLISH
BEGIN:VEVENT
TRANSP:OPAQUE
DTSTART:20211204T190000
DTEND:20211204T223000
SUMMARY:Front 242 - 40th Anniversary
LOCATION:AB Grote zaal (Anspachlaan 110\, 1000 Brussel)
DESCRIPTION:Nouvelle date: 09/07/2022
URL;VALUE=URI:https://www.abconcerts.be/fr/agenda/front-242-40th-anniversary/a105J000005HkA0QAK
UID:ABConcerts_event_19ffa91c-510f-11ec-9333-5254eb761bff
SEQUENCE:0
DTSTAMP:20260424T180400Z
END:VEVENT
END:VCALENDAR
