BEGIN:VCALENDAR
VERSION:2.0
PRODID:-ABConcerts-events
METHOD:PUBLISH
BEGIN:VEVENT
TRANSP:OPAQUE
DTSTART:20180407T204500
DTEND:20180407T223000
SUMMARY:Footwork Night w/ Jana Rush (Live)
LOCATION:Bonnefooi (unknown\, 1000 Brussel)
DESCRIPTION:BRDCST : La crème de la crème de la scène footwork\nféminine de Chicago !
URL;VALUE=URI:https://www.abconcerts.be/fr/agenda/footwork-night-w-jana-rush-live/a105J000001wdHqQAI
UID:ABConcerts_event_6ec983ee-59a0-11eb-9869-5254eb761bff
SEQUENCE:0
DTSTAMP:20260419T204613Z
END:VEVENT
END:VCALENDAR
