BEGIN:VCALENDAR
VERSION:2.0
PRODID:-ABConcerts-events
METHOD:PUBLISH
BEGIN:VEVENT
TRANSP:OPAQUE
DTSTART:20150228T200000
DTEND:20150228T223000
SUMMARY:Fink
LOCATION:AB Grote zaal (Anspachlaan 110\, 1000 Brussel)
DESCRIPTION:Hypnotique et mélancolique\, Fin Greenall\, alias Fink\,\nnous tient en haleine depuis quatorze ans et six albums.    \n   Après un premier disque aux accents électro\, ‘Fresh\nProduce’ (2000)\, c’est une voie radicalement\ndifférente qu’il emprunte pour réaliser ‘Biscuit For\nBreakfast’ (2006) et ‘Distance and Time’ (2007)\nauxquels il offre une colonne vertébrale blues et folk.\nEntouré à la perfection par deux amis d’enfance : Guy\nWhittaker à la basse et Tim Thornton à la batterie.\nC’est alors que le titre ‘This is the Thing’ émerge\net braque tous les regards avertis sur son travail. Il se\nrévèle ainsi petit à petit au grand jour. Cette nouvelle\nnotoriété révèle un talent précieux d’auteur\,\ncompositeur et lui permet de travailler notamment avec\nBonobo\, John Legend\, Professor Green ou encore Amy\nWinehouse. Sortiront ensuite de sa plume ‘Sort of\nRevolution’ (2009) et surtout ‘Perfect Darkness’\n(2011).
URL;VALUE=URI:https://www.abconcerts.be/fr/agenda/fink/a105J000001wdm7QAA
UID:ABConcerts_event_b4aee28e-599e-11eb-b810-5254eb761bff
SEQUENCE:0
DTSTAMP:20260421T181801Z
END:VEVENT
END:VCALENDAR
