BEGIN:VCALENDAR
VERSION:2.0
PRODID:-ABConcerts-events
METHOD:PUBLISH
BEGIN:VEVENT
TRANSP:OPAQUE
DTSTART:20170408T200000
DTEND:20170408T223000
SUMMARY:Felicia Atkinson + Dan Hayhurst
LOCATION:AB Salon - zittend (Steenstraat 11\, 1000 Brussel)
DESCRIPTION:Forest Swords endosse le rôle de curateur à BRDCST
URL;VALUE=URI:https://www.abconcerts.be/fr/agenda/felicia-atkinson-dan-hayhurst/a105J000001wgxzQAA
UID:ABConcerts_event_ce8f2e56-599f-11eb-a0c2-5254eb761bff
SEQUENCE:0
DTSTAMP:20260423T005007Z
END:VEVENT
END:VCALENDAR
