BEGIN:VCALENDAR
VERSION:2.0
PRODID:-ABConcerts-events
METHOD:PUBLISH
BEGIN:VEVENT
TRANSP:OPAQUE
DTSTART:20160428T200000
DTEND:20160428T223000
SUMMARY:Eyemer
LOCATION:AB Salon - zittend (Steenstraat 11\, 1000 Brussel)
DESCRIPTION:Un nouveau talent sur la scène belge des\nauteurs-compositeurs-interprètes !
URL;VALUE=URI:https://www.abconcerts.be/fr/agenda/eyemer/a105J000001wdVNQAY
UID:ABConcerts_event_cfec1cb8-59a0-11eb-bfed-5254eb761bff
SEQUENCE:0
DTSTAMP:20260423T223808Z
END:VEVENT
END:VCALENDAR
