BEGIN:VCALENDAR
VERSION:2.0
PRODID:-ABConcerts-events
METHOD:PUBLISH
BEGIN:VEVENT
TRANSP:OPAQUE
DTSTART:20211215T190000
DTEND:20211215T223000
SUMMARY:Double Bill: Lea Bertucci & Elisabeth Klinck
LOCATION:AB Club - staand (Anspachlaan 110\, 1000 Brussel)
DESCRIPTION:Transcendental experimental electro-acoustic night
URL;VALUE=URI:https://www.abconcerts.be/fr/agenda/double-bill-lea-bertucci-elisabeth-klinck/a105J000005HgbOQAS
UID:ABConcerts_event_098eda1a-275e-11ec-95dc-525456751928
SEQUENCE:0
DTSTAMP:20260423T023934Z
END:VEVENT
END:VCALENDAR
