BEGIN:VCALENDAR
VERSION:2.0
PRODID:-ABConcerts-events
METHOD:PUBLISH
BEGIN:VEVENT
TRANSP:OPAQUE
DTSTART:20161122T200000
DTEND:20161122T223000
SUMMARY:Dotan presents 7 Layers Sessions
LOCATION:AB Club - staand (Anspachlaan 110\, 1000 Brussel)
DESCRIPTION:Dotan invite quelques-uns des\nauteurs-compositeurs-interprètes les plus appréciés !
URL;VALUE=URI:https://www.abconcerts.be/fr/agenda/dotan-presents-7-layers-sessions/a105J000001wdSGQAY
UID:ABConcerts_event_ea609876-59a0-11eb-8764-5254eb761bff
SEQUENCE:0
DTSTAMP:20260422T085045Z
END:VEVENT
END:VCALENDAR
