BEGIN:VCALENDAR
VERSION:2.0
PRODID:-ABConcerts-events
METHOD:PUBLISH
BEGIN:VEVENT
TRANSP:OPAQUE
DTSTART:20151211T200000
DTEND:20151211T223000
SUMMARY:Django Django
LOCATION:AB Grote zaal (Anspachlaan 110\, 1000 Brussel)
DESCRIPTION:Un son électro pop irrésistible et délicieusement\nvintage\, Django Django est de retour !
URL;VALUE=URI:https://www.abconcerts.be/fr/agenda/django-django/a105J000001wdc0QAA
UID:ABConcerts_event_4f1d8348-599f-11eb-bba7-5254eb761bff
SEQUENCE:0
DTSTAMP:20260425T221258Z
END:VEVENT
END:VCALENDAR
