BEGIN:VCALENDAR
VERSION:2.0
PRODID:-ABConcerts-events
METHOD:PUBLISH
BEGIN:VEVENT
TRANSP:OPAQUE
DTSTART:20170130T200000
DTEND:20170130T223000
SUMMARY:Conor Oberst
LOCATION:AB Flex (Anspachlaan 110\, 1000 Brussel)
DESCRIPTION:Bright Eyes – compositions de haut calibre – Americana
URL;VALUE=URI:https://www.abconcerts.be/fr/agenda/conor-oberst/a105J000001wdSsQAI
UID:ABConcerts_event_9f45d900-59a0-11eb-8f23-5254eb761bff
SEQUENCE:0
DTSTAMP:20260422T022243Z
END:VEVENT
END:VCALENDAR
