BEGIN:VCALENDAR
VERSION:2.0
PRODID:-ABConcerts-events
METHOD:PUBLISH
BEGIN:VEVENT
TRANSP:OPAQUE
DTSTART:20180428T200000
DTEND:20180428T223000
SUMMARY:Coca-Cola Sessions: Shht. + The Glücks
LOCATION:AB Club - staand (Anspachlaan 110\, 1000 Brussel)
DESCRIPTION:Pour les fans de Thee Oh Sees\, Raketkanon\, Onmens\, Ty\nSegall\, Millionaire\, Moon Duo\, Parquet Courts
URL;VALUE=URI:https://www.abconcerts.be/fr/agenda/coca-cola-sessions-shht-the-glucks/a105J000001wdIIQAY
UID:ABConcerts_event_7463e146-59a0-11eb-91db-5254eb761bff
SEQUENCE:0
DTSTAMP:20260425T170855Z
END:VEVENT
END:VCALENDAR
