BEGIN:VCALENDAR
VERSION:2.0
PRODID:-ABConcerts-events
METHOD:PUBLISH
BEGIN:VEVENT
TRANSP:OPAQUE
DTSTART:20161214T200000
DTEND:20161214T223000
SUMMARY:Clutch
LOCATION:AB Grote zaal (Anspachlaan 110\, 1000 Brussel)
DESCRIPTION:Un southern blues metal qui explose le radar !
URL;VALUE=URI:https://www.abconcerts.be/fr/agenda/clutch/a105J000001wdSuQAI
UID:ABConcerts_event_9fefeaee-59a0-11eb-82d2-5254eb761bff
SEQUENCE:0
DTSTAMP:20260423T093350Z
END:VEVENT
END:VCALENDAR
