BEGIN:VCALENDAR
VERSION:2.0
PRODID:-ABConcerts-events
METHOD:PUBLISH
BEGIN:VEVENT
TRANSP:OPAQUE
DTSTART:20140322T200000
DTEND:20140322T223000
SUMMARY:Club Belgique by Samsung: School Is Cool 'Nature Fear'
LOCATION:AB Club - staand (Anspachlaan 110\, 1000 Brussel)
DESCRIPTION:SIC inaugure Club Belgique avec ' Nature Fear'!
URL;VALUE=URI:https://www.abconcerts.be/fr/agenda/club-belgique-by-samsung-school-is-cool-nature-fear/a105J000001we4wQAA
UID:ABConcerts_event_94221bf6-59a0-11eb-8fa7-5254eb761bff
SEQUENCE:0
DTSTAMP:20260422T171932Z
END:VEVENT
END:VCALENDAR
