BEGIN:VCALENDAR
VERSION:2.0
PRODID:-ABConcerts-events
METHOD:PUBLISH
BEGIN:VEVENT
TRANSP:OPAQUE
DTSTART:20140611T200000
DTEND:20140611T223000
SUMMARY:CLUB BELGIQUE by Samsung: Milow ‘Silver Linings
LOCATION:AB Club - staand (Anspachlaan 110\, 1000 Brussel)
DESCRIPTION:En toute intimité avec notre troubadour national\npréféré.
URL;VALUE=URI:https://www.abconcerts.be/fr/agenda/club-belgique-by-samsung-milow-silver-linings/a105J000001we3EQAQ
UID:ABConcerts_event_83176866-59a0-11eb-9814-5254eb761bff
SEQUENCE:0
DTSTAMP:20260423T031803Z
END:VEVENT
END:VCALENDAR
