BEGIN:VCALENDAR
VERSION:2.0
PRODID:-ABConcerts-events
METHOD:PUBLISH
BEGIN:VEVENT
TRANSP:OPAQUE
DTSTART:20151112T200000
DTEND:20151112T235500
SUMMARY:Climate Express Night - Amatorski
LOCATION:AB Club - staand (Anspachlaan 110\, 1000 Brussel)
DESCRIPTION:Echauffez-vous avec Amatorski et soutenez la marche pour le\nclimat à Paris !
URL;VALUE=URI:https://www.abconcerts.be/fr/agenda/climate-express-night-amatorski/a105J000001wdYgQAI
UID:ABConcerts_event_d9aec7e6-59a0-11eb-bc70-5254eb761bff
SEQUENCE:0
DTSTAMP:20260424T074918Z
END:VEVENT
END:VCALENDAR
