BEGIN:VCALENDAR
VERSION:2.0
PRODID:-ABConcerts-events
METHOD:PUBLISH
BEGIN:VEVENT
TRANSP:OPAQUE
DTSTART:20160515T170000
DTEND:20160515T180000
SUMMARY:Classic Album Listening Session: 50 Years - The Beach Boys -
 Pet Sounds
LOCATION:AB Salon - zittend (Steenstraat 11\, 1000 Brussel)
DESCRIPTION:Jubilé d'or d'un classique!
URL;VALUE=URI:https://www.abconcerts.be/fr/agenda/classic-album-listening-session-50-years-the-beach-boys-pet-sounds/a105J000001wgxRQAQ
UID:ABConcerts_event_c848e352-599f-11eb-8ad0-5254eb761bff
SEQUENCE:0
DTSTAMP:20260421T195536Z
END:VEVENT
END:VCALENDAR
