BEGIN:VCALENDAR
VERSION:2.0
PRODID:-ABConcerts-events
METHOD:PUBLISH
BEGIN:VEVENT
TRANSP:OPAQUE
DTSTART:20150422T200000
DTEND:20150422T223000
SUMMARY:Circa Waves
LOCATION:AB Club - staand (Anspachlaan 110\, 1000 Brussel)
DESCRIPTION:Du rock garage dans la veine des Strokes et des Libertines
URL;VALUE=URI:https://www.abconcerts.be/fr/agenda/circa-waves/a105J000001wdkHQAQ
UID:ABConcerts_event_8de02792-59a0-11eb-9bbf-5254eb761bff
SEQUENCE:0
DTSTAMP:20260422T142941Z
END:VEVENT
END:VCALENDAR
